BEGIN:VCALENDAR
VERSION:2.0
PRODID:-//https://bruderhand.de///NONSGML kigkonsult.se iCalcreator 2.10.15//
METHOD:PUBLISH
BEGIN:VEVENT
UID:20260421T134419CEST-6869AJFA93@https://bruderhand.de/
DTSTAMP:20260421T114419Z
DESCRIPTION:Seminar zum Thema Islam\nTermin zum Vormerken - Weitere Informa
 tionen folgen\nhttps://bruderhand.de/seminarzentrum-oase/seminare/event/38
 65-kopie-von-kopie-von-islamseminar-mit-hussam-chamoun
DTSTART:20251120T170000Z
DTEND:20251123T130000Z
LOCATION:Seminarzentrum Oase (Waldweg 3\, 29342 Wienhausen\, Deutschland)
SUMMARY:Kopie von Kopie von Islamseminar mit Hussam Chamoun  Termin zum Vor
 merken 
URL:https://bruderhand.de/seminarzentrum-oase/seminare/event/3865-kopie-von
 -kopie-von-islamseminar-mit-hussam-chamoun
END:VEVENT
END:VCALENDAR
