BEGIN:VCALENDAR
VERSION:2.0
PRODID:-//https://bruderhand.de///NONSGML kigkonsult.se iCalcreator 2.10.15//
METHOD:PUBLISH
BEGIN:VEVENT
UID:20260421T144320CEST-9900fcPFcG@https://bruderhand.de/
DTSTAMP:20260421T124320Z
DESCRIPTION:&nbsp\;Bitte den folgenden Text kopieren:\nThemen: Was ist die 
 Hauptsache?\nMittwoch\, 25.09.2024\, 20.00 Uhr\nThema: Hauptsache geliebt?
 !\nDonnerstag\, 26.09.2024\, 20.00 UhrThema: Hauptsache gesund?!\nFreitag\
 ,&nbsp\;27.09.2024\, 20.00 UhrThema: Hauptsache glücklich?!\nSamstag\,&nbs
 p\;28.09.2024\, 20.00 UhrThema: Hauptsache erfolgreich?!\nSonntag\,&nbsp\;
 29.09.2024\, 10.00 UhrThema: Hauptsache gerettet?!\nUnser Vorschlag:Selbst
  kommen und andere mitbringen!\nhttps://bruderhand.de/evangelist/lueck-edg
 ar/vorherige-termine/event/3776-evangelisation
DTSTART:20240925T134600Z
DTEND:20240929T154600Z
LOCATION:Regichile Bauma (Altlandenbergstrasse 11\, 8494 Bauma\, Schweiz)
SUMMARY:Evangelisation mit Edgar Lück
URL:https://bruderhand.de/evangelist/lueck-edgar/vorherige-termine/event/37
 76-evangelisation
END:VEVENT
END:VCALENDAR
