BEGIN:VCALENDAR
VERSION:2.0
PRODID:-//https://bruderhand.de///NONSGML kigkonsult.se iCalcreator 2.10.15//
METHOD:PUBLISH
BEGIN:VEVENT
UID:20260421T155417CEST-8336i45h2U@https://bruderhand.de/
DTSTAMP:20260421T135417Z
DESCRIPTION:Weitere Infos\nGottesdienst um 10.00 UhrPredigt von Edgar Lück
 \nUnser Vorschlag:Selbst kommen und andere mitbringen!\nhttps://bruderhand
 .de/evangelist/lueck-edgar/vorherige-termine/event/2295-predigt
DTSTART:20190113T090000Z
DTEND:20190113T110000Z
LOCATION:Gemeinde freier evangelischer Christen Felsberg (Poststraße 8\, 34
 587 Felsberg\, Deutschland)
SUMMARY:Predigt von Edgar Lück
URL:https://bruderhand.de/evangelist/lueck-edgar/vorherige-termine/event/22
 95-predigt
END:VEVENT
END:VCALENDAR
