BEGIN:VCALENDAR
VERSION:2.0
PRODID:-//https://bruderhand.de///NONSGML kigkonsult.se iCalcreator 2.10.15//
METHOD:PUBLISH
BEGIN:VEVENT
UID:20260425T183737CEST-4276IGTx0w@https://bruderhand.de/
DTSTAMP:20260425T163737Z
DESCRIPTION:Weitere Infos\nDie Vorträge finden im Rahmen der internationale
 n Jugendfreizeit 'Jesus for all Nations' statt. Die Abendveranstaltungen s
 ind offen zugänglich. Edgar Lück ist als Mitarbeiter bei der Freizeit dabe
 i.\nFr. 27.07. um 19.30 Uhr\nSa. 28.07. um 19.30 Uhr\nSo. 29.07. um 20.00 
 Uhr\n\n&nbsp\;\nUnser Vorschlag:Selbst kommen und andere mitbringen!\nhttp
 s://bruderhand.de/evangelist/lueck-edgar/vorherige-termine/event/2158-vort
 raege
DTSTART:20180727T092100Z
DTEND:20180729T112100Z
LOCATION:Haus Neuland\, Bielefeld (Senner Hellweg 493\, 33689 Bielefeld\, D
 eutschland)
SUMMARY:Vorträge 
URL:https://bruderhand.de/evangelist/lueck-edgar/vorherige-termine/event/21
 58-vortraege
END:VEVENT
END:VCALENDAR
