BEGIN:VCALENDAR
VERSION:2.0
PRODID:-//https://bruderhand.de///NONSGML kigkonsult.se iCalcreator 2.10.15//
METHOD:PUBLISH
BEGIN:VEVENT
UID:20260425T142000CEST-2875dMXTc2@https://bruderhand.de/
DTSTAMP:20260425T122000Z
DESCRIPTION:Infos folgen\nhttps://bruderhand.de/evangelist/lueck-edgar/term
 ine/event/4247-evangelisation
DTSTART:20261008T152600Z
DTEND:20261011T172600Z
LOCATION:Christliche Gemeinde Dörentrup (Poststraße 4\, 32694 Dörentrup\, D
 eutschland)
SUMMARY:Evangelisation mit Edgar Lück
URL:https://bruderhand.de/evangelist/lueck-edgar/termine/event/4247-evangel
 isation
END:VEVENT
END:VCALENDAR
