BEGIN:VCALENDAR
VERSION:2.0
PRODID:-//https://bruderhand.de///NONSGML kigkonsult.se iCalcreator 2.10.15//
METHOD:PUBLISH
BEGIN:VEVENT
UID:20260425T170120CEST-0576odX0Tu@https://bruderhand.de/
DTSTAMP:20260425T150120Z
DESCRIPTION:\nhttps://bruderhand.de/evangelist/lueck-edgar/termine/event/41
 48-evangelisationsvorbereitung
DTSTART:20260529T103500Z
DTEND:20260531T123500Z
LOCATION:Evangelisch-Freikirchliche Gemeinde Stadtoldendorf (Holeburgweg 5\
 , 37627 Stadtoldendorf)
SUMMARY:Evangelisationsvorbereitung mit Edgar Lück
URL:https://bruderhand.de/evangelist/lueck-edgar/termine/event/4148-evangel
 isationsvorbereitung
END:VEVENT
END:VCALENDAR
