BEGIN:VCALENDAR
VERSION:2.0
PRODID:-//https://bruderhand.de///NONSGML kigkonsult.se iCalcreator 2.10.15//
METHOD:PUBLISH
BEGIN:VEVENT
UID:20260421T171923CEST-3560UedtPW@https://bruderhand.de/
DTSTAMP:20260421T151923Z
DESCRIPTION:Seminar über Evangelisation\nhttps://bruderhand.de/evangelist/l
 ueck-edgar/termine/event/4145-seminar
DTSTART:20260313T112700Z
DTEND:20260314T132700Z
LOCATION:Jumiko Lippe (Anne-Frank-Straße 1\, 32756 Detmold\, Deutschland)
SUMMARY:Seminar mit Edgar Lück
URL:https://bruderhand.de/evangelist/lueck-edgar/termine/event/4145-seminar
END:VEVENT
END:VCALENDAR
