BEGIN:VCALENDAR
VERSION:2.0
PRODID:-//https://bruderhand.de///NONSGML kigkonsult.se iCalcreator 2.10.15//
METHOD:PUBLISH
BEGIN:VEVENT
UID:20260421T184049CEST-9973omH1Vm@https://bruderhand.de/
DTSTAMP:20260421T164049Z
DESCRIPTION:Weitere Infos\nKundgebung um 16.00 - 21.00 UhrGlaubensfreiheit 
 für Christen mit einem biblischen Werteverständnis\nUnser Vorschlag:Selbst
  kommen und andere mitbringen!\nhttps://bruderhand.de/evangelist/drazil-jo
 sef/vorherige-termine/event/4263-open-air-evangelisation
DTSTART:20260328T110000Z
DTEND:20260328T130000Z
LOCATION:Kassel Innenstadt (Königsplatz\, 34117 Kassel\, Deutschland)
SUMMARY:Open Air Evangelisation mit Josef Drazil
URL:https://bruderhand.de/evangelist/drazil-josef/vorherige-termine/event/4
 263-open-air-evangelisation
END:VEVENT
END:VCALENDAR
