BEGIN:VCALENDAR
VERSION:2.0
PRODID:-//https://bruderhand.de///NONSGML kigkonsult.se iCalcreator 2.10.15//
METHOD:PUBLISH
BEGIN:VEVENT
UID:20260425T131252CEST-2836TT4Gfu@https://bruderhand.de/
DTSTAMP:20260425T111252Z
DESCRIPTION:Weitere Infos\nMännerfrühstück um 09.00 UhrDas Evangelium kenne
 n\, glauben\, erklären- Warum jeder Mann das Evangelium nicht nur irgendwi
 e kennen\, sondern klar verstehen und weitergeben können sollte\nUnser Vor
 schlag:Selbst kommen und andere mitbringen!\nhttps://bruderhand.de/evangel
 ist/drazil-josef/termine/event/4305-maennerfruehstueck
DTSTART:20260523T102700Z
DTEND:20260523T122700Z
LOCATION:EFG Laubach (Dörrenbergweg 36\, 35321 Laubach\, Deutschland)
SUMMARY:Männerfrühstück mit Josef Drazil
URL:https://bruderhand.de/evangelist/drazil-josef/termine/event/4305-maenne
 rfruehstueck
END:VEVENT
END:VCALENDAR
