BEGIN:VCALENDAR
VERSION:2.0
PRODID:-//https://bruderhand.de///NONSGML kigkonsult.se iCalcreator 2.10.15//
METHOD:PUBLISH
BEGIN:VEVENT
UID:20260421T144337CEST-1731f1J5k6@https://bruderhand.de/
DTSTAMP:20260421T124337Z
DESCRIPTION:Themen\nFreitag\, 29.05.2026\, 19.00 UhrThema: Ein Fischer mach
 t den Fang seines Lebens\nSamstag\, 30.05.2026\, 11.00 UhrThema: Eine Abge
 wiesene erfährt Annahme\nSonntag\, 31.05.2026\, 10.00 UhrThema: Ein Beamte
 r findet wahren Reichtum\nUnser Vorschlag:\nhttps://bruderhand.de/evangeli
 st/christian-kutsch/termine/event/4288-evangelisation
DTSTART:20260515T052900Z
DTEND:20260517T072900Z
LOCATION:Christengemeinde Gerolzhofen  (Frankenwinheimer Str. 2\, 97447 Ger
 olzhofen\, Deutschland)
SUMMARY:Evangelisation mit Christian Kutsch
URL:https://bruderhand.de/evangelist/christian-kutsch/termine/event/4288-ev
 angelisation
END:VEVENT
END:VCALENDAR
