BEGIN:VCALENDAR
VERSION:2.0
PRODID:-//https://bruderhand.de///NONSGML kigkonsult.se iCalcreator 2.10.15//
METHOD:PUBLISH
BEGIN:VEVENT
UID:20260423T131013CEST-41610WxU5c@https://bruderhand.de/
DTSTAMP:20260423T111013Z
DESCRIPTION:Es handelt sich hierbei um eine interne Veranstaltung. Die Absc
 hlussklasse der christlichen Schule Detmold wird an unserem Missionswerk s
 ein. In diesem Rahmen werde ich Vorträge halten dürfen. Für eine Gebetsunt
 erstützung bin ich dankbar\nhttps://bruderhand.de/evangelist/christian-kut
 sch/termine/event/4201-vortraege
DTSTART:20260615T125800Z
DTEND:20260619T145800Z
LOCATION:Seminarzentrum Oase (Mehrzweckhalle) (Waldweg 3\, 29342 Wienhausen
 \, Deutschland)
SUMMARY:Vorträge von Christian Kutsch
URL:https://bruderhand.de/evangelist/christian-kutsch/termine/event/4201-vo
 rtraege
END:VEVENT
END:VCALENDAR
