BEGIN:VCALENDAR
VERSION:2.0
PRODID:-//https://bruderhand.de///NONSGML kigkonsult.se iCalcreator 2.10.15//
METHOD:PUBLISH
BEGIN:VEVENT
UID:20260423T164538CEST-2268jTsZd6@https://bruderhand.de/
DTSTAMP:20260423T144538Z
DESCRIPTION:Weiter Infos folgen zeitnah\nhttps://bruderhand.de/evangelist/c
 hristian-kutsch/termine/event/4179-jugendabend
DTSTART:20260508T103600Z
DTEND:20260508T123600Z
LOCATION:Mennonitengemeinde Allmersbach  (Rudersberger Str. 36\, 71573 Allm
 ersbach im Tal\, Deutschland)
SUMMARY:Jugendabend mit Christian Kutsch
URL:https://bruderhand.de/evangelist/christian-kutsch/termine/event/4179-ju
 gendabend
END:VEVENT
END:VCALENDAR
