BEGIN:VCALENDAR
VERSION:2.0
PRODID:-//https://bruderhand.de///NONSGML kigkonsult.se iCalcreator 2.10.15//
METHOD:PUBLISH
BEGIN:VEVENT
UID:20260425T153609CEST-0506LvUoUf@https://bruderhand.de/
DTSTAMP:20260425T133609Z
DESCRIPTION:Weitere Infos\nFrauenkreis um 14.00 UhrThema: Postevangelikalis
 mus\nUnser Vorschlag:Selbst kommen und andere mitbringen!\nhttps://bruderh
 and.de/evangelist/beat-abry/vorherige-termine/event/3736-vortrag
DTSTART:20240125T133000Z
DTEND:20240125T153000Z
LOCATION:Regichile Bauma (Altlandenbergstrasse 11\, 8494 Bauma\, Schweiz)
SUMMARY:Vortrag mit Beat Abry
URL:https://bruderhand.de/evangelist/beat-abry/vorherige-termine/event/3736
 -vortrag
END:VEVENT
END:VCALENDAR
