BEGIN:VCALENDAR
VERSION:2.0
PRODID:-//https://bruderhand.de///NONSGML kigkonsult.se iCalcreator 2.10.15//
METHOD:PUBLISH
BEGIN:VEVENT
UID:20260425T142236CEST-3509FD2BTf@https://bruderhand.de/
DTSTAMP:20260425T122236Z
DESCRIPTION:Weitere Infos\nSeelsorgeschulung&nbsp\;\nUnser Vorschlag:Selbst
  kommen und andere mitbringen!\nhttps://bruderhand.de/evangelist/beat-abry
 /vorherige-termine/event/3438-seelsorgeschulung
DTSTART:20221124T073700Z
DTEND:20221124T093700Z
LOCATION:Mennonitische Brüdergemeinde Lemgo  (Am Bauhof 14A\, 32657 Lemgo\,
  Deutschland)
SUMMARY:Seelsorgeschulung mit Beat Abry
URL:https://bruderhand.de/evangelist/beat-abry/vorherige-termine/event/3438
 -seelsorgeschulung
END:VEVENT
END:VCALENDAR
