BEGIN:VCALENDAR
VERSION:2.0
PRODID:-//https://bruderhand.de///NONSGML kigkonsult.se iCalcreator 2.10.15//
METHOD:PUBLISH
BEGIN:VEVENT
UID:20260425T154856CEST-2953F2J3cP@https://bruderhand.de/
DTSTAMP:20260425T134856Z
DESCRIPTION:Themen\nFreitag\, 13.01.2023\, 19.00 UhrThema: Das Gebet des Ge
 rechten vermag viel\nSamstag\, 14.01.2023\, 10.00 UhrThema: Evangelistisch
 e Seelsorge\nSamstag\, 14.01.2023\, 17.00 UhrThema: Schritte zum Vergeben
 \nSonntag\, 15.01.2023\, 10.00 UhrThema: Das Evangelium weitersagen\nUnser
  Vorschlag:Selbst kommen und andere mitbringen!\nhttps://bruderhand.de/eva
 ngelist/beat-abry/vorherige-termine/event/3207-vorbereitungswochenende
DTSTART:20230112T230000Z
DTEND:20230115T121700Z
LOCATION:Mennoniten-Brüdergemeinde Bielefeld (Schillerstraße 89\, 33609 Bie
 lefeld\, Deutschland)
SUMMARY:Vorbereitungswochenende mit Beat Abry
URL:https://bruderhand.de/evangelist/beat-abry/vorherige-termine/event/3207
 -vorbereitungswochenende
END:VEVENT
END:VCALENDAR
