BEGIN:VCALENDAR
VERSION:2.0
PRODID:-//https://bruderhand.de///NONSGML kigkonsult.se iCalcreator 2.10.15//
METHOD:PUBLISH
BEGIN:VEVENT
UID:20260421T143927CEST-971308euSc@https://bruderhand.de/
DTSTAMP:20260421T123927Z
DESCRIPTION:Weitere Infos\nGottesdienst um 9.30 UhrThema\nUnser Vorschlag:S
 elbst kommen und andere mitbringen!\nhttps://bruderhand.de/evangelist/beat
 -abry/termine/event/4343-gottesdienst
DTSTART:20270404T064200Z
DTEND:20270404T084200Z
LOCATION:Christliche Gemeinde Wangen (Keplerweg 21\, 88239 Wangen im Allgäu
 \, Deutschland)
SUMMARY:Gottesdienst mit Beat Abry
URL:https://bruderhand.de/evangelist/beat-abry/termine/event/4343-gottesdie
 nst
END:VEVENT
END:VCALENDAR
