BEGIN:VCALENDAR
VERSION:2.0
PRODID:-//https://bruderhand.de///NONSGML kigkonsult.se iCalcreator 2.10.15//
METHOD:PUBLISH
BEGIN:VEVENT
UID:20260421T135230CEST-33239Vmj6w@https://bruderhand.de/
DTSTAMP:20260421T115230Z
DESCRIPTION:Weitere Infos\nGottesdienst um 10.00 UhrThema noch offen&nbsp\;
 \nUnser Vorschlag:Selbst kommen und andere mitbringen!\nhttps://bruderhand
 .de/evangelist/alle-veranstaltungen/monatsansicht/event/4280-predigt
DTSTART:20260301T123400Z
DTEND:20260301T143400Z
LOCATION:Christen Gemeinde Herzogenaurach (Christoph-Daßler-Straße 20\, 910
 74 Herzogenaurach\, Deutschland)
SUMMARY:Predigt von Josef Drazil
URL:https://bruderhand.de/evangelist/alle-veranstaltungen/monatsansicht/eve
 nt/4280-predigt
END:VEVENT
END:VCALENDAR
