BEGIN:VCALENDAR
VERSION:2.0
PRODID:-//https://bruderhand.de///NONSGML kigkonsult.se iCalcreator 2.10.15//
METHOD:PUBLISH
BEGIN:VEVENT
UID:20260420T152853CEST-4875IuRgUP@https://bruderhand.de/
DTSTAMP:20260420T132853Z
DESCRIPTION:In diesen Tagen begleite ich als Redner eine christliche Jugend
 gruppe aus Wiesbaden\nhttps://bruderhand.de/evangelist/alle-veranstaltunge
 n/evangelisationen-vortraege/event/4287-jugendfreizeit
DTSTART:20260718T053500Z
DTEND:20260725T073500Z
LOCATION:Haus am Ebbehang (Zum Koppenkopf 10\, 58540 Meinerzhagen\, Deutsch
 land)
SUMMARY:Jugendfreizeit mit Christian Kutsch
URL:https://bruderhand.de/evangelist/alle-veranstaltungen/evangelisationen-
 vortraege/event/4287-jugendfreizeit
END:VEVENT
END:VCALENDAR
