BEGIN:VCALENDAR
VERSION:2.0
PRODID:-//https://bruderhand.de///NONSGML kigkonsult.se iCalcreator 2.10.15//
METHOD:PUBLISH
BEGIN:VEVENT
UID:20260423T161358CEST-70916u2ExI@https://bruderhand.de/
DTSTAMP:20260423T141358Z
DESCRIPTION:Gottesdienst um 10.00 Uhr\nhttps://bruderhand.de/evangelist/all
 e-veranstaltungen/evangelisationen-vortraege/event/4248-predigt
DTSTART:20260315T122900Z
DTEND:20260315T142900Z
LOCATION:Evangelische Freikirche Heidenoldendorf (Adolf-Meier-Straße 36\, 3
 2758 Detmold\, Deutschland)
SUMMARY:Predigt von Edgar Lück
URL:https://bruderhand.de/evangelist/alle-veranstaltungen/evangelisationen-
 vortraege/event/4248-predigt
END:VEVENT
END:VCALENDAR
