BEGIN:VCALENDAR
VERSION:2.0
PRODID:-//https://bruderhand.de///NONSGML kigkonsult.se iCalcreator 2.10.15//
METHOD:PUBLISH
BEGIN:VEVENT
UID:20260421T175948CEST-55699WDU4u@https://bruderhand.de/
DTSTAMP:20260421T155948Z
DESCRIPTION:Evangelisation veranstaltet von der cbg Deggendorf\n&nbsp\;\nGo
 tt begegnen\nDonnerstag\, 05.03.2026\, 19.00 UhrThema: &nbsp\;Religiös und
  doch unerfüllt\nFreitag\, 06.03.2026\, 19.00 UhrThema: Lebendig und doch 
 tot\nSamstag\, 07.03.2026\, 19.00 UhrThema: Zielstrebig und doch orientier
 ungslos\nSonntag\, 08.03.2026\, 11.00 UhrThema: Gott und doch Mensch\nUnse
 r Vorschlag:Selbst kommen und andere mitbringen!\nhttps://bruderhand.de/ev
 angelist/alle-veranstaltungen/evangelisationen-vortraege/event/4144-evange
 lisation
DTSTART:20260305T112600Z
DTEND:20260308T132600Z
LOCATION:Christliche Brüdergemeinde Deggendorf (Werkstraße 19\, 94447 Platt
 ling\, Deutschland)
SUMMARY:Evangelisation mit Edgar Lück
URL:https://bruderhand.de/evangelist/alle-veranstaltungen/evangelisationen-
 vortraege/event/4144-evangelisation
END:VEVENT
END:VCALENDAR
