BEGIN:VCALENDAR
VERSION:2.0
PRODID:-//https://bruderhand.de///NONSGML kigkonsult.se iCalcreator 2.10.15//
METHOD:PUBLISH
BEGIN:VEVENT
UID:20260421T101105CEST-4160lFceoX@https://bruderhand.de/
DTSTAMP:20260421T081105Z
DESCRIPTION:Themen\nMittwoch\, 18.02.2026\, 19.00 UhrThema: Leid - warum lä
 sst Gott das zu?\nDonnerstag\, 19.02.2026\, 19.00 UhrThema: Wird die Welt 
 im Chaos enden?\nFreitag\, 20.02.2026\, 19.00 UhrThema: Dein Leben kann no
 ch einmal neu beginnen\nSamstag\, 21.02.2026\, 17.00 UhrThema: Tod - was d
 ann?\nSonntag\, 22.02.2026\; 10.00 UhrThema: Das Fundament im Sturm des Le
 bens\nUnser Vorschlag:Selbst kommen und andere mitbringen!\nhttps://bruder
 hand.de/evangelist/alle-veranstaltungen/evangelisationen-vortraege/event/3
 929-evangelisation
DTSTART:20260218T135300Z
DTEND:20260222T155300Z
LOCATION:Evangeliums-Christen-Gemeinde Herford (Kiebitzstraße 30\, 32051 He
 rford\, Deutschland)
SUMMARY:Evangelisation  mit Beat Abry
URL:https://bruderhand.de/evangelist/alle-veranstaltungen/evangelisationen-
 vortraege/event/3929-evangelisation
END:VEVENT
END:VCALENDAR
